BEGIN:VCALENDAR
VERSION:2.0
PRODID:icalendar-ruby
CALSCALE:GREGORIAN
X-WR-TIMEZONE:Europe/Helsinki
BEGIN:VTIMEZONE
TZID:Europe/Helsinki
BEGIN:DAYLIGHT
DTSTART:20260329T040000
TZOFFSETFROM:+0200
TZOFFSETTO:+0300
RRULE:FREQ=YEARLY;BYDAY=-1SU;BYMONTH=3
TZNAME:EEST
END:DAYLIGHT
BEGIN:STANDARD
DTSTART:20261025T030000
TZOFFSETFROM:+0300
TZOFFSETTO:+0200
RRULE:FREQ=YEARLY;BYDAY=-1SU;BYMONTH=10
TZNAME:EET
END:STANDARD
END:VTIMEZONE
BEGIN:VEVENT
DTSTAMP:20260421T205432
UID:japy.myclub.fi-10627548
DTSTART;TZID=Europe/Helsinki:20260512T180000
DTEND;TZID=Europe/Helsinki:20260512T180000
DESCRIPTION:Uudistettu JäPy:n maantiepyöräkurssi käynnistyy 12.5.2026  
 – varmuutta ajamiseen ja iloa yhteislenkeille\n\nJäPy:n suosittu maanti
 epyöräkurssi on uudistettu! Kurssin ohjelmaa on muokattu vielä toimivam
 maksi ja käytännönläheisemmäksi\, jotta osallistujat saavat mahdollis
 imman hyvän startin maantiepyöräilyn pariin ja varmuutta seuran yhteisl
 enkeille.\nKurssi tarjoaa rennon ja turvallisen tavan opetella maantiepyö
 räilyn keskeiset taidot kokeneiden harrastajien opastuksella. Harjoittele
 mme pyörän hallintaa\, ryhmäajon perusteita sekä sujuvaa ajamista eril
 aisissa tilanteissa\, kuten mäissä ja risteyksissä. Kurssin aikana käy
 dään läpi myös käytännön asioita\, kuten varusteet\, lenkkietiketti
  sekä miten toimia esimerkiksi rengasrikon sattuessa tien päällä.\nKur
 ssin päätteeksi ajamme rauhallisen pidemmän yhteislenkin\, jossa pääs
 et hyödyntämään kurssilla opittuja taitoja käytännössä. Tavoitteen
 a on\, että kurssin jälkeen osallistujilla on valmiudet lähteä mukaan 
 JäPy:n yhteislenkeille hyvällä fiiliksellä.\nKurssi sopii erityisesti 
 maantiepyöräilyn aloittelijoille tai niille\, jotka haluavat vahvistaa r
 yhmäajotaitojaan.\nKurssin kouluttajina toimivat JäPy:n kokeneet maantie
 pyöräilijät Beni Kauhanen ja Harri Vuorimaa\, jotka jakavat kurssilla o
 mat parhaat vinkkinsä turvalliseen ja sujuvaan maantiepyöräilyyn.\n​K
 urssin hinta on 70 € ja osallistuminen edellyttää JäPy:n jäsenyyttä
 . Kurssimaksua ei hyvitetä\, vaikka et pääsisi osallistumaan kaikille k
 erroille. Kurssi toteutuu\, jos ilmoittautuneita on vähintään kahdeksan
 .\nKATSO KURSSIOHJELMA TÄÄLTÄ! (https://www.japy.fi/maantiepyoeraeilyku
 rssi-2026)\n\nhttps://japy.myclub.fi/flow/events/10627548
LOCATION:Järvenpää\, 
SEQUENCE:0
SUMMARY:Järvenpään Pyöräilijät ry.: JäPy maantiepyöräilykurssi 202
 6
URL;VALUE=URI:https://japy.myclub.fi/flow/events/10627548
END:VEVENT
END:VCALENDAR
